BEGIN:VCALENDAR
VERSION:2.0
PRODID:-//Arizona Predator Callers - ECPv6.15.17.1//NONSGML v1.0//EN
CALSCALE:GREGORIAN
METHOD:PUBLISH
X-WR-CALNAME:Arizona Predator Callers
X-ORIGINAL-URL:https://arizonapredatorcallers.com
X-WR-CALDESC:Events for Arizona Predator Callers
REFRESH-INTERVAL;VALUE=DURATION:PT1H
X-Robots-Tag:noindex
X-PUBLISHED-TTL:PT1H
BEGIN:VTIMEZONE
TZID:America/Phoenix
BEGIN:STANDARD
TZOFFSETFROM:-0700
TZOFFSETTO:-0700
TZNAME:MST
DTSTART:20250101T000000
END:STANDARD
END:VTIMEZONE
BEGIN:VEVENT
DTSTART;TZID=America/Phoenix:20260514T190000
DTEND;TZID=America/Phoenix:20260514T203000
DTSTAMP:20260423T053156
CREATED:20260325T173448Z
LAST-MODIFIED:20260325T173448Z
UID:1700-1778785200-1778790600@arizonapredatorcallers.com
SUMMARY:May 2026 member meeting
DESCRIPTION:The perfect club to learn to hunt! Due to the prolific populations of predators there are no tags or limits on hunting predators (exception of lions)\, all you need is a license. Coyotes can be hunted year round and they are very wily and are the perfect animal to test your hunting skills! We hold monthly meeting August through May and bring in speakers\, Arizona Game and Fish wildlife biologists and others to educate on the hunting of predators\, ethical hunting\, wildlife management\, safe handling\, communicable diseases\, field harvesting\, skinning techniques. Arizona Predator Callers hold novice hunts where members mentor and share hunting knowledge with new hunters\, club hunts and multi-club hunt activities. We also host a youth Javelina and small game camp in unit 37b every January. \nAWARDS NIGHT! Last meeting of the season! \nEvery month is a new topic of discussion and a rifle raffle! Free to APC AND PVCI members and $5.00 for visitors. \nAnnual membership is only $35!
URL:https://arizonapredatorcallers.com/event/may-2026-member-meeting/
LOCATION:Mesa F.O.P. Lodge #9\, 1450 E. Main St\, Mesa\, AZ\, 85203\, United States
CATEGORIES:General Meeting
ATTACH;FMTTYPE=image/jpeg:https://arizonapredatorcallers.com/wp-content/uploads/2018/08/awards1.jpg
END:VEVENT
END:VCALENDAR